BEGIN:VCALENDAR
VERSION:2.0
PRODID:-//Shaben &amp; Associates - ECPv6.15.20//NONSGML v1.0//EN
CALSCALE:GREGORIAN
METHOD:PUBLISH
X-ORIGINAL-URL:https://shabenandassociates.com
X-WR-CALDESC:Events for Shaben &amp; Associates
REFRESH-INTERVAL;VALUE=DURATION:PT1H
X-Robots-Tag:noindex
X-PUBLISHED-TTL:PT1H
BEGIN:VTIMEZONE
TZID:America/New_York
BEGIN:DAYLIGHT
TZOFFSETFROM:-0500
TZOFFSETTO:-0400
TZNAME:EDT
DTSTART:20240310T070000
END:DAYLIGHT
BEGIN:STANDARD
TZOFFSETFROM:-0400
TZOFFSETTO:-0500
TZNAME:EST
DTSTART:20241103T060000
END:STANDARD
BEGIN:DAYLIGHT
TZOFFSETFROM:-0500
TZOFFSETTO:-0400
TZNAME:EDT
DTSTART:20250309T070000
END:DAYLIGHT
BEGIN:STANDARD
TZOFFSETFROM:-0400
TZOFFSETTO:-0500
TZNAME:EST
DTSTART:20251102T060000
END:STANDARD
BEGIN:DAYLIGHT
TZOFFSETFROM:-0500
TZOFFSETTO:-0400
TZNAME:EDT
DTSTART:20260308T070000
END:DAYLIGHT
BEGIN:STANDARD
TZOFFSETFROM:-0400
TZOFFSETTO:-0500
TZNAME:EST
DTSTART:20261101T060000
END:STANDARD
END:VTIMEZONE
BEGIN:VEVENT
DTSTART;TZID=America/New_York:20250822T143000
DTEND;TZID=America/New_York:20250822T170000
DTSTAMP:20260421T180855
CREATED:20250814T143144Z
LAST-MODIFIED:20250814T143707Z
UID:907-1755873000-1755882000@shabenandassociates.com
SUMMARY:Justin OFF
DESCRIPTION:
URL:https://shabenandassociates.com/calendar-pto/justin-off/
END:VEVENT
BEGIN:VEVENT
DTSTART;VALUE=DATE:20250829
DTEND;VALUE=DATE:20250830
DTSTAMP:20260421T180855
CREATED:20250825T151307Z
LAST-MODIFIED:20250825T151307Z
UID:934-1756425600-1756511999@shabenandassociates.com
SUMMARY:mike off
DESCRIPTION:
URL:https://shabenandassociates.com/calendar-pto/mike-off/
END:VEVENT
END:VCALENDAR