BEGIN:VCALENDAR
VERSION:2.0
PRODID:-//Shaben &amp; Associates - ECPv6.15.20//NONSGML v1.0//EN
CALSCALE:GREGORIAN
METHOD:PUBLISH
X-ORIGINAL-URL:https://shabenandassociates.com
X-WR-CALDESC:Events for Shaben &amp; Associates
REFRESH-INTERVAL;VALUE=DURATION:PT1H
X-Robots-Tag:noindex
X-PUBLISHED-TTL:PT1H
BEGIN:VTIMEZONE
TZID:America/New_York
BEGIN:DAYLIGHT
TZOFFSETFROM:-0500
TZOFFSETTO:-0400
TZNAME:EDT
DTSTART:20240310T070000
END:DAYLIGHT
BEGIN:STANDARD
TZOFFSETFROM:-0400
TZOFFSETTO:-0500
TZNAME:EST
DTSTART:20241103T060000
END:STANDARD
BEGIN:DAYLIGHT
TZOFFSETFROM:-0500
TZOFFSETTO:-0400
TZNAME:EDT
DTSTART:20250309T070000
END:DAYLIGHT
BEGIN:STANDARD
TZOFFSETFROM:-0400
TZOFFSETTO:-0500
TZNAME:EST
DTSTART:20251102T060000
END:STANDARD
BEGIN:DAYLIGHT
TZOFFSETFROM:-0500
TZOFFSETTO:-0400
TZNAME:EDT
DTSTART:20260308T070000
END:DAYLIGHT
BEGIN:STANDARD
TZOFFSETFROM:-0400
TZOFFSETTO:-0500
TZNAME:EST
DTSTART:20261101T060000
END:STANDARD
BEGIN:DAYLIGHT
TZOFFSETFROM:-0500
TZOFFSETTO:-0400
TZNAME:EDT
DTSTART:20270314T070000
END:DAYLIGHT
BEGIN:STANDARD
TZOFFSETFROM:-0400
TZOFFSETTO:-0500
TZNAME:EST
DTSTART:20271107T060000
END:STANDARD
END:VTIMEZONE
BEGIN:VEVENT
DTSTART;VALUE=DATE:20251120
DTEND;VALUE=DATE:20251202
DTSTAMP:20260421T081056
CREATED:20250819T191949Z
LAST-MODIFIED:20250819T191949Z
UID:926-1763596800-1764633599@shabenandassociates.com
SUMMARY:Vonda Cruise
DESCRIPTION:
URL:https://shabenandassociates.com/calendar-pto/vonda-cruise/
END:VEVENT
BEGIN:VEVENT
DTSTART;TZID=America/New_York:20251206T170000
DTEND;TZID=America/New_York:20251206T220000
DTSTAMP:20260421T081056
CREATED:20251016T110055Z
LAST-MODIFIED:20251016T110055Z
UID:942-1765040400-1765058400@shabenandassociates.com
SUMMARY:Holiday Party-
DESCRIPTION:This years Holiday party will be held at 838 Mossy Creek Trail. Employees and their spouse or significant other are evited
URL:https://shabenandassociates.com/calendar-pto/holiday-party/
END:VEVENT
BEGIN:VEVENT
DTSTART;VALUE=DATE:20251223
DTEND;VALUE=DATE:20260103
DTSTAMP:20260421T081056
CREATED:20250819T192247Z
LAST-MODIFIED:20250819T192247Z
UID:932-1766448000-1767398399@shabenandassociates.com
SUMMARY:mike in the sun
DESCRIPTION:
URL:https://shabenandassociates.com/calendar-pto/mike-in-the-sun/
END:VEVENT
BEGIN:VEVENT
DTSTART;TZID=America/New_York:20251224T080000
DTEND;TZID=America/New_York:20251226T170000
DTSTAMP:20260421T081056
CREATED:20250819T175137Z
LAST-MODIFIED:20250819T175137Z
UID:918-1766563200-1766768400@shabenandassociates.com
SUMMARY:Merry Christmas- Office Closed-be safe!
DESCRIPTION:
URL:https://shabenandassociates.com/calendar-pto/merry-christmas-office-closed-be-safe/
END:VEVENT
BEGIN:VEVENT
DTSTART;VALUE=DATE:20251226
DTEND;VALUE=DATE:20260101
DTSTAMP:20260421T081056
CREATED:20250819T192102Z
LAST-MODIFIED:20250819T192102Z
UID:928-1766707200-1767225599@shabenandassociates.com
SUMMARY:Brandie Bays off
DESCRIPTION:
URL:https://shabenandassociates.com/calendar-pto/brandie-bays-off/
END:VEVENT
BEGIN:VEVENT
DTSTART;VALUE=DATE:20251231
DTEND;VALUE=DATE:20260103
DTSTAMP:20260421T081056
CREATED:20250819T175323Z
LAST-MODIFIED:20250819T175323Z
UID:920-1767139200-1767398399@shabenandassociates.com
SUMMARY:Happy New Year!!! Office Closed
DESCRIPTION:
URL:https://shabenandassociates.com/calendar-pto/happy-new-year-office-closed/
END:VEVENT
END:VCALENDAR